BEGIN:VCALENDAR
VERSION:2.0
PRODID:-//ETSBOA - ECPv6.15.20//NONSGML v1.0//EN
CALSCALE:GREGORIAN
METHOD:PUBLISH
X-ORIGINAL-URL:https://etsboa.org
X-WR-CALDESC:Events for ETSBOA
REFRESH-INTERVAL;VALUE=DURATION:PT1H
X-Robots-Tag:noindex
X-PUBLISHED-TTL:PT1H
BEGIN:VTIMEZONE
TZID:America/New_York
BEGIN:DAYLIGHT
TZOFFSETFROM:-0500
TZOFFSETTO:-0400
TZNAME:EDT
DTSTART:20250309T070000
END:DAYLIGHT
BEGIN:STANDARD
TZOFFSETFROM:-0400
TZOFFSETTO:-0500
TZNAME:EST
DTSTART:20251102T060000
END:STANDARD
BEGIN:DAYLIGHT
TZOFFSETFROM:-0500
TZOFFSETTO:-0400
TZNAME:EDT
DTSTART:20260308T070000
END:DAYLIGHT
BEGIN:STANDARD
TZOFFSETFROM:-0400
TZOFFSETTO:-0500
TZNAME:EST
DTSTART:20261101T060000
END:STANDARD
BEGIN:DAYLIGHT
TZOFFSETFROM:-0500
TZOFFSETTO:-0400
TZNAME:EDT
DTSTART:20270314T070000
END:DAYLIGHT
BEGIN:STANDARD
TZOFFSETFROM:-0400
TZOFFSETTO:-0500
TZNAME:EST
DTSTART:20271107T060000
END:STANDARD
BEGIN:DAYLIGHT
TZOFFSETFROM:-0500
TZOFFSETTO:-0400
TZNAME:EDT
DTSTART:20280312T070000
END:DAYLIGHT
BEGIN:STANDARD
TZOFFSETFROM:-0400
TZOFFSETTO:-0500
TZNAME:EST
DTSTART:20281105T060000
END:STANDARD
END:VTIMEZONE
BEGIN:VEVENT
DTSTART;VALUE=DATE:20261212
DTEND;VALUE=DATE:20261213
DTSTAMP:20260419T084335
CREATED:20241030T204206Z
LAST-MODIFIED:20260417T171239Z
UID:1836-1797033600-1797119999@etsboa.org
SUMMARY:Lower Area Jr. Band Clinic Auditions
DESCRIPTION:Ocoee Middle School (Kelley Burroughs and Spencer Hughes\, hosts)\nRegistration Deadline – Oct. 24\, 2026\nContact Person – Shannon Fowler\nFees: $10/student – $25/school
URL:https://etsboa.org/event/lower-area-junior-band-clinic-auditions/
LOCATION:Ocoee Middle School\, 2250 North Ocoee St\, Cleveland\, TN\, 37311\, United States
END:VEVENT
BEGIN:VEVENT
DTSTART;VALUE=DATE:20270113
DTEND;VALUE=DATE:20270117
DTSTAMP:20260419T084335
CREATED:20241104T182949Z
LAST-MODIFIED:20260417T163958Z
UID:1886-1799798400-1800143999@etsboa.org
SUMMARY:TMEA (All State)
DESCRIPTION:Gaylord Opryland Resort and Convention Center – Nashville\nFees: $55/Student – $75/Director\nNo School Fee
URL:https://etsboa.org/event/tmea-all-state/
LOCATION:Gaylord Opryland Resort and Convention Center\, 2800 Opryland Drive\, Nashville\, TN\, 37214\, United States
END:VEVENT
BEGIN:VEVENT
DTSTART;VALUE=DATE:20270116
DTEND;VALUE=DATE:20270117
DTSTAMP:20260419T084335
CREATED:20241030T204952Z
LAST-MODIFIED:20260205T215235Z
UID:1851-1800057600-1800143999@etsboa.org
SUMMARY:Upper Area Junior Band Clinic Auditions
DESCRIPTION:(Snow makeup – January 23\, 2026)\nJohn Sevier Middle School (David Semones\, host)\nRegistration Deadline – December 5\, 2025\nContact Person – Hunter Mullins\nFees: $10/student – $25/school
URL:https://etsboa.org/event/upper-area-junior-band-clinic-auditions-snow-makeup-jan-25/
LOCATION:John Sevier Middle School\, 1200 Wateree St\, Kingsport\, TN\, 37660\, United States
END:VEVENT
BEGIN:VEVENT
DTSTART;VALUE=DATE:20270122
DTEND;VALUE=DATE:20270124
DTSTAMP:20260419T084335
CREATED:20241030T204505Z
LAST-MODIFIED:20260417T153315Z
UID:1845-1800576000-1800748799@etsboa.org
SUMMARY:Lower Area Jr Band Clinic
DESCRIPTION:TBD\nContact Person – Molly Epperson\nFees: $20/student (no school fee)
URL:https://etsboa.org/event/lower-area-junior-band-clinic/
LOCATION:TN
END:VEVENT
BEGIN:VEVENT
DTSTART;VALUE=DATE:20270129
DTEND;VALUE=DATE:20270131
DTSTAMP:20260419T084335
CREATED:20241104T022115Z
LAST-MODIFIED:20260205T214639Z
UID:1859-1801180800-1801353599@etsboa.org
SUMMARY:Jazz Clinic
DESCRIPTION:Walker Valley High School (Joseph Archer\, Isaac Beaty & Tanner Hunt\, hosts)\nContact Person – Travis Hicks\nFees: $25/student (no school fee)
URL:https://etsboa.org/event/jazz-clinic/
LOCATION:Walker Valley High School\, 750 Lauderdale Memorial Hwy\, Cleveland\, TN\, 37312\, United States
END:VEVENT
BEGIN:VEVENT
DTSTART;VALUE=DATE:20270204
DTEND;VALUE=DATE:20270207
DTSTAMP:20260419T084335
CREATED:20241104T023646Z
LAST-MODIFIED:20260417T143204Z
UID:1866-1801699200-1801958399@etsboa.org
SUMMARY:All-State East Senior Clinic
DESCRIPTION:Park-Vista Hotel\, Gatlinburg\, TN\nContact Persons – Rodney Brown (Band – bandclinicchair@etsboa.org)/\nKathryn York (Orchestra – orchestrachair@etsboa.org)\nFees: $25/student (no school fee)\nRegistration and Score Submission  – February 4\, 2027 Park Vista Lobby – 3:00-6:15 PM\nBand Seating  – February 5\, 2026 – 6:15 PM\nWinter Board of Director’s Meeting – February 4\, 2027 LeConte Room – 7:30 PM\n2027 All-East Blue Jazz Ensemble Performance – February 4\, 2027  – Ballroom – 9:45 PM\nAll Strings All-State Meeting (Directors & Students) – February 4\, 2027 – Glenstone – 9:30 PM\nMorning Director’s Sessions – February 5\, 2027  – Gardenview AB – 8:45-11:20 AM\nHonorary Life Members Luncheon – February 5\, 2027 – Harpoon Harry’s Crab House – 11:30 AM\nAfternoon Director’s Sessions – February 5\, 2027  – Gardenview AB – 1:30-3:20 PM\nAll-East Collegiate Performance – TBD – February 5\, 2027  Ballroom – 6:30 PM\nWinter General Meeting – February 5\, 2027 – Gardenview AB – 8:00 PM\n11-12 All-State Meeting (Directors & Students) – February 6\, 2027 – Gardenview AB – 8:30 AM\n9-10 All-State Meeting (Directors & Students) – February 6\, 2027 – Gardenview AB – 10:00 AM\nConcert – February 6\, 2027 – Park Vista Hotel Ballroom – 12:00 PM
URL:https://etsboa.org/event/all-state-east-senior-clinic/
LOCATION:Park Vista Hotel\, 705 Cherokee Orchard Rd\, Gatlinburg\, TN\, 37738\, United States
END:VEVENT
BEGIN:VEVENT
DTSTART;VALUE=DATE:20270212
DTEND;VALUE=DATE:20270214
DTSTAMP:20260419T084335
CREATED:20241104T024108Z
LAST-MODIFIED:20260417T164306Z
UID:1869-1802390400-1802563199@etsboa.org
SUMMARY:Upper Area Jr. Band Clinic
DESCRIPTION:(Snow Make-up – February 20-21)\nRoss N. Robinson Middle School (Richard Brown – host)\nContact Person – Reed McAmis\nFees: $20/student (no school fee)
URL:https://etsboa.org/event/upper-area-junior-band-clinic/
LOCATION:Ross N Robinson Middle School\, 1517 Jessee St\, Kingsport\, TN\, 37664\, United States
END:VEVENT
BEGIN:VEVENT
DTSTART;VALUE=DATE:20270303
DTEND;VALUE=DATE:20270305
DTSTAMP:20260419T084335
CREATED:20241104T182431Z
LAST-MODIFIED:20260417T164434Z
UID:1875-1804032000-1804204799@etsboa.org
SUMMARY:Concert Assessment (Middle)
DESCRIPTION:Farragut High School (Rodney Brown & John Garner – hosts)\nRegistration Deadline – January 29\, 2027\nContact Person – Jenny D’Andrea\nFee: $300/ensemble\nNo school or recording fee
URL:https://etsboa.org/event/concert-assessment-middle/
LOCATION:Farragut High School\, 11237 Kingston Pike\, Knoxville\, TN\, 37934\, United States
END:VEVENT
BEGIN:VEVENT
DTSTART;VALUE=DATE:20270306
DTEND;VALUE=DATE:20270307
DTSTAMP:20260419T084335
CREATED:20241104T182329Z
LAST-MODIFIED:20260417T164705Z
UID:1872-1804291200-1804377599@etsboa.org
SUMMARY:Upper Area Solo and Ensemble
DESCRIPTION:Cherokee HS (Brandon Linkous – host)\nRegistration Deadline – February 13\, 2027\nContact Person – Reed McAmis\nFees: $10/student/event – $25/school
URL:https://etsboa.org/event/upper-area-solo-and-ensemble/
LOCATION:Cherokee High School\, 2927 Highway 66 South\, Rogersville\, TN\, 37857\, United States
END:VEVENT
BEGIN:VEVENT
DTSTART;VALUE=DATE:20270311
DTEND;VALUE=DATE:20270313
DTSTAMP:20260419T084335
CREATED:20241104T182537Z
LAST-MODIFIED:20260417T164858Z
UID:1877-1804723200-1804895999@etsboa.org
SUMMARY:Concert Assessment (Upper)
DESCRIPTION:Niswonger Performing Arts Center – Greeneville High School (Brooke Williams – host)\nRegistration Deadline – January 29\, 2027\nContact Person – Jenny D’Andrea\nFee: $300/ensemble\nNo school or recording fee
URL:https://etsboa.org/event/concert-assessment-upper/
LOCATION:Niswonger Performing Arts Center\, 212 Tusculum Blvd\, Greeneville\, TN\, 37745\, United States
END:VEVENT
BEGIN:VEVENT
DTSTART;VALUE=DATE:20270320
DTEND;VALUE=DATE:20270321
DTSTAMP:20260419T084335
CREATED:20241104T182826Z
LAST-MODIFIED:20260417T165224Z
UID:1883-1805500800-1805587199@etsboa.org
SUMMARY:Middle Area Solo and Ensemble
DESCRIPTION:West Valley Middle School (Valerie Sanders\, host)\nRegistration Deadline – February 21\, 2027\nContact Person – Tiffany Kimbro\nFees: $10/student/event – $25/school
URL:https://etsboa.org/event/middle-area-solo-and-ensemble/
LOCATION:West Valley Middle School
END:VEVENT
BEGIN:VEVENT
DTSTART;VALUE=DATE:20270331
DTEND;VALUE=DATE:20270402
DTSTAMP:20260419T084335
CREATED:20241104T182712Z
LAST-MODIFIED:20260417T170249Z
UID:1880-1806451200-1806623999@etsboa.org
SUMMARY:Concert Assessment (Lower)
DESCRIPTION:Univ. of TN at Chattanooga (Randall Coleman – host)\nRegistration Deadline – January 29\, 2027\nContact Person – Jenny D’Andrea\nFee: $300/ensemble\nNo school or recording fee
URL:https://etsboa.org/event/concert-assessment-lower/
LOCATION:UT Chattanooga\, 615 McCallie Ave.\, Chattanooga\, TN\, 37403\, United States
END:VEVENT
BEGIN:VEVENT
DTSTART;VALUE=DATE:20270424
DTEND;VALUE=DATE:20270425
DTSTAMP:20260419T084335
CREATED:20241104T183056Z
LAST-MODIFIED:20260417T170835Z
UID:1889-1808524800-1808611199@etsboa.org
SUMMARY:Lower Area Solo and Ensemble
DESCRIPTION:East Hamilton High School (Molly Epperson – host)\nRegistration Deadline – March 28\, 2027\nContact Person – Shannon Fowler\nFees: $10/student/event – $25/school
URL:https://etsboa.org/event/lower-area-solo-and-ensemble/
LOCATION:East Hamilton High School\, 2015 Ooltewah-Ringgold Rd\, Ooltewah\, TN\, 37363\, United States
END:VEVENT
END:VCALENDAR